Workbook
Name 応募分野: #REF!
Name 応募分野: #REF!
Name 音楽費: #REF!
Name 会場費: #REF!
Name 会場費・舞台費・運搬費: #REF!
Name 活動区分: #REF!
Name 感染症対策経費: #REF!
Name 稽古費: #REF!
Name 謝金・旅費・宣伝費等: #REF!
Name 出演費・音楽費・文芸費: #REF!
Name 助成対象外経費: #REF!
Name 伝_音楽費: #REF!
Name 伝_出演費: #REF!
Name 伝_文芸費: #REF!
Name 伝大_P61: #REF!
Name 配信費: #REF!
Name 舞台費: #REF!
Name 文芸費: #REF!
Name 旅費: #REF!

Sheet 共通入力シート
A1: ◆各シートと連動しています。入力作業の省力、誤入力防止にご利用ください。◆
A2: 申請施設名(劇場・音楽堂等名)
A3: 住所（郵便番号）
A4: 住所（所在地／都道府県名）
A5: 住所(所在地／市町村以下）
A6: 団体名(主催者）
A7: 住所（郵便番号）
A8: 住所（所在地／都道府県名）
A9: 住所（所在地／市町村以下）
A10: 代表者職
A11: 代表者氏名
A12: 消費税等仕入控除税額の取扱い
... A16: その他の場合の住所（所在地）
B17: ※データ入力用のシートですので、PDFの提出は不要です。

Sheet （表紙）
A1: 様式第１号（第３条関係） | E1: 令和９年度文化芸術振興費補助金による 助 成 金 交 付 要 望 書 （劇場・音楽堂等機能強化推進事業）
K5: 令和 ８ 年 | M5: 月 | O5: 日 | T5: ←応募書類の提出期間内の日付を記載してください。
A7: 独立行政法人日本芸術文化振興会理事長 殿
G9: 劇場・音楽堂等名 | I9: =IF(共通入力シート!B2=0,"",共通入力シート!B2)
I10: 〒 | J10: =IF(共通入力シート!B3=0,"",共通入力シート!B3)
G11: 住所（所在地） | I11: =IF(共通入力シート!B4=0,"",共通入力シート!B4) | J11: =IF(共通入力シート!B5=0,"",共通入力シート!B5)
G13: 団体名 | I13: =IF(共通入力シート!B6=0,"",共通入力シート!B6)
I14: 〒 | J14: =IF(共通入力シート!B7=0,"",共通入力シート!B7)
G15: 住所（所在地） | I15: =IF(共通入力シート!B8=0,"",共通入力シート!B8) | J15: =IF(共通入力シート!B9=0,"",共通入力シート!B9)
G16: 代表者職・氏名 | I16: =IF(共通入力シート!B10=0,"",共通入力シート!B10) | K16: =IF(共通入力シート!B11=0,"",共通入力シート!B11) | T16: すべての項目について、旧氏記載が可能です。
C18: 下記の事業を行いたいので、文化芸術振興費補助金による助成金交付要綱第３条に基づき、助成金の交付を要望します。
A22: 記
B24: 1 | C24: 事 業 区 分 | G24: 共同制作支援事業
B25: 2 | C25: 活動（公演）名 | G25: =IF('様式1-1（活動概要）'!C4=0,"",'様式1-1（活動概要）'!C4) | T25: ←様式1-1を入力すると自動的に入力されます。
B26: 3 | C26: 活動（公演）内容 | G26: 様式１のとおり | Q26: 本体 | R26: BF設備以外 | S26: BF設備
B27: 4 | C27: 要 望 額（本体事業） | G27: =Q30 -> 0 | L27: 千円 | P27: 要望事業一覧の合計 | Q27: ='様式1-1（活動概要）'!C263 -> 0 | R27: ='様式1-1-①（バリアフリー・多言語）'!P143 -> 0 | S27: ='様式1-1-①（バリアフリー・多言語）'!Q143 -> 0
C28: 要 望 額（バリアフリー・多言語対応) | G28: =R30 -> 0 | L28: 千円
B29: 5 | C29: 消費税等仕入控除税額の取扱い | G29: =IF(共通入力シート!$B$12="","",共通入力シート!$B$12) | Q29: 本体 | R29: BF
F30: =IF(共通入力シート!$B$12="","★「共通入力シート」の消費税等仕入控除税額の取扱を選択してください。","") -> ★「共通入力シート」の消費税等仕入控除税額の取扱を選択してください。 | P30: 共同制作の要望額 | Q30: =Q27 -> 0 | R30: =MIN(2500,R27)+S27 -> 0
B31: 【担当者連絡先１】
B32: 役職 | H32: 電話
B33: ふりがな | H33: FAX
B34: 氏名 | H34: メールアドレス
B35: 【担当者連絡先２】※任意
B36: 役職 | H36: 電話
B37: ふりがな | H37: FAX
B38: 氏名 | H38: メールアドレス
B40: 資料の送付先 | D40: 〒 | E40: =IF(共通入力シート!B14="", "", IF(共通入力シート!B14="劇場所在地", 共通入力シート!B3, IF(共通入力シート!B14="団体所在地", 共通入力シート!B7, 共通入力シート!B15)))
D41: =IF(共通入力シート!B14="", "", IF(共通入力シート!B14="劇場所在地", 共通入力シート!B5, IF(共通入力シート!B14="団体所在地", 共通入力シート!B9, 共通入力シート!B16)))

Sheet 様式1-1（活動概要）
B2: 活動（公演）概要
B4: 活動（公演）名
B5: 申請者 （幹事館） | C5: 劇場・ 音楽堂等名 | D5: =IF(共通入力シート!B2=0,"",共通入力シート!B2)
C6: 運営団体名 | D6: =IF(共通入力シート!B6=0,"",共通入力シート!B6)
C7: 会計責任者 | D7: （役 職） | F7: （氏 名） | I7: 監査責任者 | J7: （役 職） | K7: （氏 名）
B10: 劇場・音楽堂等の名称 | C10: 参画する全ての劇場・音楽堂等の名称を記入してください。劇場名の後ろに、（）カッコ書きで運営団体名を併せて記載してください。 （例： 〇〇劇場（△△運営財団） ）
C14: 公演を実施しないものの共同制作として参画する劇場・音楽堂等がある場合は、理由・役割等を記載してください。
B18: 実演芸術団体等の名称 | C18: 参画する全ての実演芸術団体等の名称を記入してください。
B22: 共同制作の企画意図 目的等 | C22: 企画意図・経緯、事業目的・内容、参画する各劇場・音楽堂等における地域の実情やニーズ、対象者 等
B37: 活動（公演）の概要 | C37: 実施日程、実施会場、実施回数等 ※日程等が未定の場合は必ず決定時期を記述してください。
C58: 演目の概略
C59: 【創作種別】 | D59: 「新作」「新演出」「新振付」「翻訳初演」「その他」のいずれかを選択してください。 | J59: （その他： ）
C69: 【新演出・新振付等のポイント】（創作種別にて「新演出」「新振付」を選択した場合は記入してください（必須）。）
B77: 活動（公演）の概要 | C77: 演出家・劇作家・作曲家・振付家、出演者・スタッフ（照明、音響、美術、衣装、舞台監督等）等
C89: 収益性向上のための計画について（券売数の増加、寄付金・協賛金、各種助成・協力の獲得等） ※申請予定のその他の補助金・助成金や寄付金・協賛金については、見込額等と併せてこちらに記述してください（予算書にも記入してください）。
C98: 観客・参加者等の拡大、認知度向上のための計画について
C110: アクセシビリティ向上の取り組みについて ※バリアフリー・多言語対応の経費（様式1-１-①）を要望する場合は、その取組内容を記述してください。（必須） 要望しない場合も、取組内容があれば記載してください。 | J110: バリアフリー・多言語対応 経費の要望有無 | L110: 要選択 | N110: ←プルダウンから選択してください。記載内容の内、バリアフリー・多言語対応の経費に計上している物と、そうでない物とがある場合は「一部」を選んでください。
B116: 企画・制作 スケジュール
B131: 劇場・音楽堂等、実演芸術団体等の役割分担・経費負担
B155: 協賛者名・ 後援者名 等とその役割 | C155: 事業全体に対する協賛・後援等と、参画する各劇場・音楽堂等に対する協賛・後援等を分けて記入してください。
B170: 事業の 目標 | C170: 共同制作を行うことでどのような成果を上げるか、目指すべき芸術的水準や各館の企画制作力の向上等を含め、具体的に記入してください。
B177: 評価指標 | C177: 公演に関する数値目標〔基礎データ〕
C178: 入場者数計 | D178: =SUM(D181,D184,D187,D190,D193,D196,D199,D202) -> 0 | F178: 入場者率（％） | H178: =IFERROR($D178/($I180*$J180+$I183*$J183+$I186*$J186+$I189*$J189+$I192*$J192+$I195*$J195+$I198*$J198+$I201*$J201),"") | J178: 収益率（％） | K178: =IF((L255+L260)=0,"",(F249-F248)/(L255+L260))
C179: 会場名① | F179: 会場状況・ 施設形式等 | H179: 会場の定員数 | I179: 設定席数 | J179: 公演回数 | K179: 補足事項
C181: 入場者数 | F181: 入場者率（％） | H181: =IFERROR(D181/(I180*J180),"")
C182: 会場名② | F182: 会場状況・ 施設形式等 | H182: 会場の定員数 | I182: 設定席数 | J182: 公演回数 | K182: 補足事項
C184: 入場者数 | F184: 入場者率（％） | H184: =IFERROR(D184/(I183*J183),"")
C185: 会場名③ | F185: 会場状況・ 施設形式等 | H185: 会場の定員数 | I185: 設定席数 | J185: 公演回数 | K185: 補足事項
C187: 入場者数 | F187: 入場者率（％） | H187: =IFERROR(D187/(I186*J186),"")
C188: 会場名④ | F188: 会場状況・ 施設形式等 | H188: 会場の定員数 | I188: 設定席数 | J188: 公演回数 | K188: 補足事項
C190: 入場者数 | F190: 入場者率（％） | H190: =IFERROR(D190/(I189*J189),"")
C191: 会場名⑤ | F191: 会場状況・ 施設形式等 | H191: 会場の定員数 | I191: 設定席数 | J191: 公演回数 | K191: 補足事項
C193: 入場者数 | F193: 入場者率（％） | H193: =IFERROR(D193/(I192*J192),"")
C194: 会場名⑥ | F194: 会場状況・ 施設形式等 | H194: 会場の定員数 | I194: 設定席数 | J194: 公演回数 | K194: 補足事項
C196: 入場者数 | F196: 入場者率（％） | H196: =IFERROR(D196/(I195*J195),"")
C197: 会場名⑦ | F197: 会場状況・ 施設形式等 | H197: 会場の定員数 | I197: 設定席数 | J197: 公演回数 | K197: 補足事項
C199: 入場者数 | F199: 入場者率（％） | H199: =IFERROR(D199/(I198*J198),"")
C200: 会場名⑧ | F200: 会場状況・ 施設形式等 | H200: 会場の定員数 | I200: 設定席数 | J200: 公演回数 | K200: 補足事項
C202: 入場者数 | F202: 入場者率（％） | H202: =IFERROR(D202/(I201*J201),"")
C203: ※ 〔必須データ〕及び〔独自データ〕については、採択決定後に提出を求めます。
...

Sheet 様式1-1-①（バリアフリー・多言語）
B1: 【収支予算積算内訳（公演事業） バリアフリー・多言語対応（別枠支援）】 ※A４サイズ２枚以内に収めてください。
B3: （１） バリアフリー対応
B4: （支出） 助成対象経費 | M4: 単位：千円 | P4: 経費 小計 | R4: 課税対象外 小計
B5: 課税 対象外 | C5: BF設備 | D5: 内 訳 | K5: （単位：円） | L5: 予算額 | P5: BF設備以外 | Q5: BF設備 | R5: BF設備以外 | S5: BF設備
B6: ［文芸費］
C7: - | T7: ←消費税の課税対象外の場合は左の紫色箇所のプルダウンメニューから
C8: - | M8: =P8+Q8 -> 0 | P8: =ROUNDDOWN(SUMIFS($K7:$K15,$C7:$C15,"-")/1000,0) -> 0 | Q8: 0 | R8: =ROUNDDOWN(SUMIFS($K7:$K15,$C7:$C15,"-",$B7:$B15,"○")/1000,0) -> 0 | S8: 0 | T8: 〇を選択してください。
C9: -
C10: -
C11: -
C12: -
C13: -
C14: -
B15: ［舞台費］
C16: -
C17: - | M17: =P17+Q17 -> 0 | P17: =ROUNDDOWN(SUMIFS($K16:$K24,$C16:$C24,"-")/1000,0) -> 0 | Q17: 0 | R17: =ROUNDDOWN(SUMIFS($K16:$K24,$C16:$C24,"-",$B16:$B24,"○")/1000,0) -> 0 | S17: 0
C18: -
C19: -
C20: -
C21: -
C22: -
C23: -
B24: ［会場費］
T25: ←バリアフリー設備（多目的トイレ、授乳室等）の場合は左の橙色箇所のプルダウンメニューから
M26: =P26+Q26 -> 0 | P26: =ROUNDDOWN(SUMIFS($K25:$K33,$C25:$C33,"")/1000,0) -> 0 | Q26: =ROUNDDOWN(SUMIFS($K25:$K33,$C25:$C33,"○")/1000,0) -> 0 | R26: =ROUNDDOWN(SUMIFS($K25:$K33,$C25:$C33,"",$B25:$B33,"○")/1000,0) -> 0 | S26: =ROUNDDOWN(SUMIFS($K25:$K33,$C25:$C33,"○",$B25:$B33,"○")/1000,0) -> 0 | T26: 〇を選択してください。
B33: ［運搬費］
C34: -
C35: - | M35: =P35+Q35 -> 0 | P35: =ROUNDDOWN(SUMIFS($K34:$K42,$C34:$C42,"-")/1000,0) -> 0 | Q35: 0 | R35: =ROUNDDOWN(SUMIFS($K34:$K42,$C34:$C42,"-",$B34:$B42,"○")/1000,0) -> 0 | S35: 0
C36: -
C37: -
C38: -
C39: -
C40: -
C41: -
B42: ［宣伝費］
C43: -
C44: - | M44: =P44+Q44 -> 0 | P44: =ROUNDDOWN(SUMIFS($K43:$K51,$C43:$C51,"-")/1000,0) -> 0 | Q44: 0 | R44: =ROUNDDOWN(SUMIFS($K43:$K51,$C43:$C51,"-",$B43:$B51,"○")/1000,0) -> 0 | S44: 0
C45: -
C46: -
C47: -
...

Sheet 様式1-2（劇場・音楽堂、団体概要）
B2: 劇場・音楽堂等、実演芸術団体等の概要 | K2: ←以下、応募時点での内容を入力してください。
B3: ※ 共同制作に参画する全ての劇場・音楽堂等、実演芸術団体について、それぞれ作成してください。 | K3: ←未入力のページは非表示にしてください。
B4: 劇場・音楽堂等 又は 実演芸術団体等の名称 | D4: （ふりがな） | G4: 代表者役職・ 代表者名 | H4: (ふりがな)
H5: （氏名）
B6: 所在地 | D6: 〒
D8: 電話 | G8: FAX
B9: 設立年月 | D9: 年 月 | G9: 法人設立年月 | H9: 年 月
H10: （主務官庁名）
B11: （実演芸術団体等の場合） 団体の受賞歴
D14: 【令和６年度】 | E14: ◆公演名
D15: ◆実施公演数 | F15: 回（公演） | G15: ◆平均入場者率
D16: ◆共同団体
B18: 共同制作支援事業 | D18: ◆事業参加による成果
B19: 参加状況
D20: 【令和７年度】 | E20: ◆公演名
D21: ◆実施公演数 | F21: 回（公演） | G21: ◆平均入場者率
D22: ◆共同団体
D24: ◆事業参加による成果
B27: 主な自主公演の概要 | D27: 令和５年度 | F27: 令和６年度 | H27: 令和７年度
C28: 文化庁又は 日本芸術文化振興会 支援公演 （※１）
C33: 上記以外の 主催公演
C38: 計 | D38: 本（事業費 千円） | F38: 本（事業費 千円） | H38: 本（事業費 千円）
B39: 団体の財務状況 | C39: 総収入 | E39: 千円 | G39: 千円 | I39: 千円
C40: 総支出 | E40: 千円 | G40: 千円 | I40: 千円
C41: 当期損益 | D41: =D39-D40 -> 0 | E41: 千円 | F41: =F39-F40 -> 0 | G41: 千円 | H41: =H39-H40 -> 0 | I41: 千円
C42: 総収入のうち、各種補助金・助成金等受領実績（文化庁及び日本芸術文化振興会の支援・助成を含む）
B46: 公演における 当団体の役割 （※２）
B49: ※１ 支援（助成事業等）の名称と事業（公演）名が分かるように記入してください。 ※２ 「様式１－１ 活動（公演）の概要」と重複しても構いません。
B51: 劇場・音楽堂等、実演芸術団体等の概要 | K51: ←以下、応募時点での内容を入力してください。
B52: ※ 共同制作に参画する全ての劇場・音楽堂等、実演芸術団体について、それぞれ作成してください。 | K52: ←未入力のページは非表示にしてください。
B53: 劇場・音楽堂等 又は 実演芸術団体等の名称 | D53: （ふりがな） | G53: 代表者役職・ 代表者名 | H53: (ふりがな)
H54: （氏名）
B55: 所在地 | D55: 〒
D57: 電話 | G57: FAX
B58: 設立年月 | D58: 年 月 | G58: 法人設立年月 | H58: 年 月
H59: （主務官庁名）
B60: （実演芸術団体等の場合） 団体の受賞歴
D63: 【令和６年度】 | E63: ◆公演名
D64: ◆実施公演数 | F64: 回（公演） | G64: ◆平均入場者率
D65: ◆共同団体
...

Sheet 様式1-3（略歴）
B1: 略 歴 | I1: ←以下、応募時点での内容を入力してください。
I2: ←未入力のページは非表示にしてください。
B3: ※ 共同制作に参画する全ての劇場・音楽堂等、実演芸術団体等について、それぞれ作成してください。
B4: 劇場・音楽堂等又は 実演芸術団体等の名称
B7: 【代表者略歴】 ※芸術監督等が代表者を兼ねている場合は、「個人略歴」へ記入
B8: 氏名 | C8: （ふりがな） | F8: （ふりがな）
C9: （本名） | F9: （芸名）
B11: 現職
B13: 経歴 | C13: 年 月 | D13: 職歴等
B25: 【個人略歴】（活動の芸術的内容に関する責任者としての芸術監督等）
B26: 氏名 | C26: （ふりがな） | F26: （ふりがな）
C27: （本名） | F27: （芸名）
B29: 現職 | G29: （専門分野）
B31: 経歴 | C31: 年 月 | D31: 職歴・実演芸術団体所属歴
B42: 芸術活動歴, 受賞歴等 | C42: 年 月 | D42: 芸術活動歴・受賞歴等
B51: 略 歴 | I51: ←以下、応募時点での内容を入力してください。
I52: ←未入力のページは非表示にしてください。
B53: ※ 共同制作に参画する全ての劇場・音楽堂等、実演芸術団体等について、それぞれ作成してください。
B54: 劇場・音楽堂等又は 実演芸術団体等の名称
B57: 【代表者略歴】 ※芸術監督等が代表者を兼ねている場合は、「個人略歴」へ記入
B58: 氏名 | C58: （ふりがな） | F58: （ふりがな）
C59: （本名） | F59: （芸名）
B61: 現職
B63: 経歴 | C63: 年 月 | D63: 職歴等
B75: 【個人略歴】（活動の芸術的内容に関する責任者としての芸術監督等）
B76: 氏名 | C76: （ふりがな） | F76: （ふりがな）
C77: （本名） | F77: （芸名）
B79: 現職 | G79: （専門分野）
B81: 経歴 | C81: 年 月 | D81: 職歴・実演芸術団体所属歴
B92: 芸術活動歴, 受賞歴等 | C92: 年 月 | D92: 芸術活動歴・受賞歴等
B101: 略 歴 | I101: ←以下、応募時点での内容を入力してください。
I102: ←未入力のページは非表示にしてください。
B103: ※ 共同制作に参画する全ての劇場・音楽堂等、実演芸術団体等について、それぞれ作成してください。
B104: 劇場・音楽堂等又は 実演芸術団体等の名称
B107: 【代表者略歴】 ※芸術監督等が代表者を兼ねている場合は、「個人略歴」へ記入
B108: 氏名 | C108: （ふりがな） | F108: （ふりがな）
C109: （本名） | F109: （芸名）
B111: 現職
B113: 経歴 | C113: 年 月 | D113: 職歴等
B125: 【個人略歴】（活動の芸術的内容に関する責任者としての芸術監督等）
...

Sheet A-3自己申告書
A2: 令和9年度 助成金交付要望書 組織運営等に関する自己申告書 | K2: Ａ－３
G5: 団体名 | H5: =IF(共通入力シート!B6=0,"",共通入力シート!B6) | L5: 青色セルは自動で入力されます。
G6: 代表者役職名・氏名 | H6: =IF(共通入力シート!B10=0,"",共通入力シート!B10 & " " & 共通入力シート!B11) | L6: 0 | M6: 0 | N6: 0 | O6: 0
A8: 当団体の運営状況等については次のとおりです。なお、当団体の代表者として、本申告書の内容に虚偽がないことを誓約します。
A10: 運営
A11: １．定款等
B12: 〇定款等を適切に定めている。
B13: 備考 | L13: 「該当なし」を選択した場合や補足事項がある場合は備考に詳細をご記入ください
A15: ２．意思決定機関
B16: ○団体の意思等を決定する機関（社員総会、評議員会等）を設置している。
B17: ○理事会等を定期的に開催している。
B18: ○理事会等の議事録を作成している。
B19: ○事業計画及び収支予算並びに事業報告及び収支決算について理事会等の決議を経ている。
B20: 備考 | L20: 「該当なし」を選択した場合や補足事項がある場合は備考に詳細をご記入ください
B22: 次の設問は、理事会・評議員会を設置している場合のみ回答してください。
B23: 〇理事会・評議員会の構成についてジェンダーバランスに配慮している。
C24: （「はい」の場合）配慮の具体的な内容
A28: ３．運営事務
B29: ○経理責任者は明確になっている。
B30: ○現預金の出納責任者は明確になっている。
B31: ○銀行印の管理責任者は明確になっている。 | L31: 銀行印を保有していない団体は、「該当なし」を選択してください。
B32: ○事務の執行に当たっては、各担当者の権限と責任が明確になっている。
B33: 〇業者選定等に関する規程等を整備している。
C34: （「はい」の場合）整備している規程等の具体的な内容
B37: ○予算執行に係る全ての証憑（契約書・領収書等）を善良な管理者の注意をもって５年間以上保管している。
B38: 〇利益相反取引を行っていない（適切な承認手続きを経たものを除く）。
B39: ※利益相反取引とは、団体の関係者の利益と団体の利益が対立する、または対立するおそれのある取引のことを指す。
B40: ○手許現金有高は、定期的に出納担当者以外の者が出納簿と照合している。
B41: ○法人税や消費税、源泉所得税等で必要な申告義務を適切に実施している。
B42: 備考 | L42: 「該当なし」を選択した場合や補足事項がある場合は備考に詳細をご記入ください
A44: 財務
A45: ４．財務諸表等
B46: ○会計帳簿（仕訳帳・総勘定元帳等）を作成している。
B47: ○財務諸表（貸借対照表・損益計算書等）を作成している。
B48: ○財務諸表（貸借対照表・損益計算書等）を公表している。
B49: ※本項目における「公表」とは、ウェブサイトに掲載していること、もしくは事務所に備え付け一般からの要望があれば常に閲覧できる状態にしていることを指す。
B50: 備考 | L50: 「該当なし」を選択した場合や補足事項がある場合は備考に詳細をご記入ください
A52: ５．監査
B53: 〇実施している監査の種類
C54: （当てはまるものにチェックを入れ、右側に必要事項を記入）
...
